Package: QFeatures Version: 1.17.2 Command: /home/rapidbuild/bbs-3.21-bioc-rapid/R/bin/R CMD check --install=check:QFeatures.install-out.txt --library=/home/rapidbuild/bbs-3.21-bioc-rapid/R/site-library --timings QFeatures_1.17.2.tar.gz StartedAt: 2025-02-13 14:53:59 -0500 (Thu, 13 Feb 2025) EndedAt: 2025-02-13 15:00:59 -0500 (Thu, 13 Feb 2025) EllapsedTime: 419.7 seconds RetCode: 0 Status: OK CheckDir: QFeatures.Rcheck Warnings: 0