Package: QFeatures Version: 1.17.2 Command: /home/rapidbuild/bbs-3.21-bioc-rapid/R/bin/R CMD build --keep-empty-dirs --no-resave-data QFeatures StartedAt: 2025-02-13 13:15:07 -0500 (Thu, 13 Feb 2025) EndedAt: 2025-02-13 13:16:19 -0500 (Thu, 13 Feb 2025) EllapsedTime: 72.9 seconds RetCode: 0 Status: OK PackageFile: QFeatures_1.17.2.tar.gz PackageFileSize: 5.437 MiB