Package: ProtGenerics Version: 1.39.2 Command: /home/rapidbuild/bbs-3.21-bioc-rapid/R/bin/R CMD build --keep-empty-dirs --no-resave-data ProtGenerics StartedAt: 2025-02-14 13:09:14 -0500 (Fri, 14 Feb 2025) EndedAt: 2025-02-14 13:09:16 -0500 (Fri, 14 Feb 2025) EllapsedTime: 1.3 seconds RetCode: 0 Status: OK PackageFile: ProtGenerics_1.39.2.tar.gz PackageFileSize: 10.9 KiB