Package: PSMatch Version: 1.11.0 Command: /home/rapidbuild/bbs-3.21-bioc-rapid/R/bin/R CMD check --install=check:PSMatch.install-out.txt --library=/home/rapidbuild/bbs-3.21-bioc-rapid/R/site-library --timings PSMatch_1.11.0.tar.gz StartedAt: 2025-02-22 09:17:17 -0500 (Sat, 22 Feb 2025) EndedAt: 2025-02-22 09:22:43 -0500 (Sat, 22 Feb 2025) EllapsedTime: 326.2 seconds RetCode: 0 Status: OK CheckDir: PSMatch.Rcheck Warnings: 0