Package: PSMatch Version: 1.11.0 Command: /home/rapidbuild/bbs-3.21-bioc-rapid/R/bin/R CMD build --keep-empty-dirs --no-resave-data PSMatch StartedAt: 2025-02-22 07:21:21 -0500 (Sat, 22 Feb 2025) EndedAt: 2025-02-22 07:22:46 -0500 (Sat, 22 Feb 2025) EllapsedTime: 84.7 seconds RetCode: 0 Status: OK PackageFile: PSMatch_1.11.0.tar.gz PackageFileSize: 1.451 MiB