Package: OrganismDbi Version: 1.49.0 Command: /home/rapidbuild/bbs-3.21-bioc-rapid/R/bin/R CMD INSTALL OrganismDbi StartedAt: 2025-02-21 12:23:54 -0500 (Fri, 21 Feb 2025) EndedAt: 2025-02-21 12:24:28 -0500 (Fri, 21 Feb 2025) EllapsedTime: 33.8 seconds RetCode: 0 Status: OK