Package: MultiAssayExperiment Version: 1.33.9 Command: /home/rapidbuild/bbs-3.21-bioc-rapid/R/bin/R CMD INSTALL MultiAssayExperiment StartedAt: 2025-02-14 12:18:57 -0500 (Fri, 14 Feb 2025) EndedAt: 2025-02-14 12:19:22 -0500 (Fri, 14 Feb 2025) EllapsedTime: 24.4 seconds RetCode: 0 Status: OK