Package: MultiAssayExperiment Version: 1.33.9 Command: /home/rapidbuild/bbs-3.21-bioc-rapid/R/bin/R CMD check --install=check:MultiAssayExperiment.install-out.txt --library=/home/rapidbuild/bbs-3.21-bioc-rapid/R/site-library --timings MultiAssayExperiment_1.33.9.tar.gz StartedAt: 2025-02-15 14:51:25 -0500 (Sat, 15 Feb 2025) EndedAt: 2025-02-15 14:55:10 -0500 (Sat, 15 Feb 2025) EllapsedTime: 225.0 seconds RetCode: 0 Status: OK CheckDir: MultiAssayExperiment.Rcheck Warnings: 0