Package: MsExperiment Version: 1.9.1 Command: /home/rapidbuild/bbs-3.21-bioc-rapid/R/bin/R CMD INSTALL MsExperiment StartedAt: 2025-02-21 12:20:44 -0500 (Fri, 21 Feb 2025) EndedAt: 2025-02-21 12:21:12 -0500 (Fri, 21 Feb 2025) EllapsedTime: 27.6 seconds RetCode: 0 Status: OK