Package: MsExperiment Version: 1.9.1 Command: /home/rapidbuild/bbs-3.21-bioc-rapid/R/bin/R CMD check --install=check:MsExperiment.install-out.txt --library=/home/rapidbuild/bbs-3.21-bioc-rapid/R/site-library --timings MsExperiment_1.9.1.tar.gz StartedAt: 2025-02-21 14:46:03 -0500 (Fri, 21 Feb 2025) EndedAt: 2025-02-21 14:49:39 -0500 (Fri, 21 Feb 2025) EllapsedTime: 216.0 seconds RetCode: 0 Status: OK CheckDir: MsExperiment.Rcheck Warnings: 0