Package: MatrixGenerics Version: 1.19.1 Command: /home/rapidbuild/bbs-3.21-bioc-rapid/R/bin/R CMD INSTALL MatrixGenerics StartedAt: 2025-02-11 06:05:56 -0500 (Tue, 11 Feb 2025) EndedAt: 2025-02-11 06:05:59 -0500 (Tue, 11 Feb 2025) EllapsedTime: 3.0 seconds RetCode: 0 Status: OK