Package: MassSpecWavelet Version: 1.73.1 Command: /home/rapidbuild/bbs-3.21-bioc-rapid/R/bin/R CMD INSTALL MassSpecWavelet StartedAt: 2025-02-11 06:09:44 -0500 (Tue, 11 Feb 2025) EndedAt: 2025-02-11 06:09:46 -0500 (Tue, 11 Feb 2025) EllapsedTime: 2.0 seconds RetCode: 0 Status: OK