Package: MSnbase Version: 2.33.2 Command: /home/rapidbuild/bbs-3.21-bioc-rapid/R/bin/R CMD INSTALL MSnbase StartedAt: 2025-02-21 12:20:55 -0500 (Fri, 21 Feb 2025) EndedAt: 2025-02-21 12:21:54 -0500 (Fri, 21 Feb 2025) EllapsedTime: 59.5 seconds RetCode: 0 Status: OK