Package: MSnbase Version: 2.33.2 Command: /home/rapidbuild/bbs-3.21-bioc-rapid/R/bin/R CMD build --keep-empty-dirs --no-resave-data MSnbase StartedAt: 2025-02-20 13:10:13 -0500 (Thu, 20 Feb 2025) EndedAt: 2025-02-20 13:12:47 -0500 (Thu, 20 Feb 2025) EllapsedTime: 154.2 seconds RetCode: 0 Status: OK PackageFile: MSnbase_2.33.2.tar.gz PackageFileSize: 6.241 MiB