Package: MLInterfaces Version: 1.87.0 Command: /home/rapidbuild/bbs-3.21-bioc-rapid/R/bin/R CMD INSTALL MLInterfaces StartedAt: 2025-02-13 12:22:49 -0500 (Thu, 13 Feb 2025) EndedAt: 2025-02-13 12:23:16 -0500 (Thu, 13 Feb 2025) EllapsedTime: 26.2 seconds RetCode: 0 Status: OK