Package: KEGGgraph Version: 1.67.0 Command: /home/rapidbuild/bbs-3.21-bioc-rapid/R/bin/R CMD check --install=check:KEGGgraph.install-out.txt --library=/home/rapidbuild/bbs-3.21-bioc-rapid/R/site-library --timings KEGGgraph_1.67.0.tar.gz StartedAt: 2025-02-21 14:38:56 -0500 (Fri, 21 Feb 2025) EndedAt: 2025-02-21 14:40:07 -0500 (Fri, 21 Feb 2025) EllapsedTime: 71.3 seconds RetCode: 0 Status: WARNINGS CheckDir: KEGGgraph.Rcheck Warnings: 1