Package: KEGGgraph Version: 1.67.0 Command: /home/rapidbuild/bbs-3.21-bioc-rapid/R/bin/R CMD build --keep-empty-dirs --no-resave-data KEGGgraph StartedAt: 2025-02-21 13:02:36 -0500 (Fri, 21 Feb 2025) EndedAt: 2025-02-21 13:03:04 -0500 (Fri, 21 Feb 2025) EllapsedTime: 28.3 seconds RetCode: 0 Status: OK PackageFile: KEGGgraph_1.67.0.tar.gz PackageFileSize: 1.315 MiB