Package: KEGGREST Version: 1.47.0 Command: /home/rapidbuild/bbs-3.21-bioc-rapid/R/bin/R CMD INSTALL KEGGREST StartedAt: 2025-02-15 12:16:25 -0500 (Sat, 15 Feb 2025) EndedAt: 2025-02-15 12:16:33 -0500 (Sat, 15 Feb 2025) EllapsedTime: 8.2 seconds RetCode: 0 Status: OK