Package: KEGGREST Version: 1.47.0 Command: /home/rapidbuild/bbs-3.21-bioc-rapid/R/bin/R CMD build --keep-empty-dirs --no-resave-data KEGGREST StartedAt: 2025-02-14 12:59:27 -0500 (Fri, 14 Feb 2025) EndedAt: 2025-02-14 12:59:52 -0500 (Fri, 14 Feb 2025) EllapsedTime: 24.6 seconds RetCode: 0 Status: OK PackageFile: KEGGREST_1.47.0.tar.gz PackageFileSize: 233.5 KiB