Package: IRanges Version: 2.41.3 Command: /home/rapidbuild/bbs-3.21-bioc-rapid/R/bin/R CMD INSTALL IRanges StartedAt: 2025-02-13 12:11:33 -0500 (Thu, 13 Feb 2025) EndedAt: 2025-02-13 12:12:17 -0500 (Thu, 13 Feb 2025) EllapsedTime: 44.5 seconds RetCode: 0 Status: OK