Package: IHW Version: 1.35.0 Command: /home/rapidbuild/bbs-3.21-bioc-rapid/R/bin/R CMD build --keep-empty-dirs --no-resave-data IHW StartedAt: 2025-02-21 13:00:24 -0500 (Fri, 21 Feb 2025) EndedAt: 2025-02-21 13:01:38 -0500 (Fri, 21 Feb 2025) EllapsedTime: 73.9 seconds RetCode: 0 Status: OK PackageFile: IHW_1.35.0.tar.gz PackageFileSize: 3.98 MiB