Package: Gviz Version: 1.51.0 Command: /home/rapidbuild/bbs-3.21-bioc-rapid/R/bin/R CMD build --keep-empty-dirs --no-resave-data Gviz StartedAt: 2025-02-18 07:07:21 -0500 (Tue, 18 Feb 2025) EndedAt: 2025-02-18 07:10:33 -0500 (Tue, 18 Feb 2025) EllapsedTime: 192.0 seconds RetCode: 0 Status: OK PackageFile: Gviz_1.51.0.tar.gz PackageFileSize: 7.319 MiB