Package: GenomicAlignments Version: 1.43.0 Command: /home/rapidbuild/bbs-3.21-bioc-rapid/R/bin/R CMD check --install=check:GenomicAlignments.install-out.txt --library=/home/rapidbuild/bbs-3.21-bioc-rapid/R/site-library --timings GenomicAlignments_1.43.0.tar.gz StartedAt: 2025-02-15 14:25:35 -0500 (Sat, 15 Feb 2025) EndedAt: 2025-02-15 14:30:30 -0500 (Sat, 15 Feb 2025) EllapsedTime: 294.3 seconds RetCode: 0 Status: OK CheckDir: GenomicAlignments.Rcheck Warnings: 0