Package: GSVA Version: 2.1.6 Command: /home/rapidbuild/bbs-3.21-bioc-rapid/R/bin/R CMD INSTALL GSVA StartedAt: 2025-02-21 12:24:10 -0500 (Fri, 21 Feb 2025) EndedAt: 2025-02-21 12:24:44 -0500 (Fri, 21 Feb 2025) EllapsedTime: 33.8 seconds RetCode: 0 Status: OK