Package: GSVA Version: 2.1.6 Command: /home/rapidbuild/bbs-3.21-bioc-rapid/R/bin/R CMD build --keep-empty-dirs --no-resave-data GSVA StartedAt: 2025-02-21 12:56:17 -0500 (Fri, 21 Feb 2025) EndedAt: 2025-02-21 12:57:58 -0500 (Fri, 21 Feb 2025) EllapsedTime: 101.3 seconds RetCode: 0 Status: OK PackageFile: GSVA_2.1.6.tar.gz PackageFileSize: 2.421 MiB