Package: GSEABase Version: 1.69.1 Command: /home/rapidbuild/bbs-3.21-bioc-rapid/R/bin/R CMD INSTALL GSEABase StartedAt: 2025-02-18 06:23:42 -0500 (Tue, 18 Feb 2025) EndedAt: 2025-02-18 06:23:59 -0500 (Tue, 18 Feb 2025) EllapsedTime: 17.5 seconds RetCode: 0 Status: OK