Package: GSEABase Version: 1.69.1 Command: /home/rapidbuild/bbs-3.21-bioc-rapid/R/bin/R CMD check --install=check:GSEABase.install-out.txt --library=/home/rapidbuild/bbs-3.21-bioc-rapid/R/site-library --timings GSEABase_1.69.1.tar.gz StartedAt: 2025-02-18 09:03:27 -0500 (Tue, 18 Feb 2025) EndedAt: 2025-02-18 09:06:13 -0500 (Tue, 18 Feb 2025) EllapsedTime: 166.4 seconds RetCode: 0 Status: OK CheckDir: GSEABase.Rcheck Warnings: 0