Package: GSEABase Version: 1.69.1 Maintainer: Bioconductor Package Maintainer MaintainerEmail: maintainer at bioconductor.org git_url: https://git.bioconductor.org/packages/GSEABase git_branch: devel git_last_commit: 269c029 git_last_commit_date: 2025-02-10 12:28:55 -0500 (Mon, 10 Feb 2025)