Package: GOSemSim Version: 2.33.0 Command: /home/rapidbuild/bbs-3.21-bioc-rapid/R/bin/R CMD check --install=check:GOSemSim.install-out.txt --library=/home/rapidbuild/bbs-3.21-bioc-rapid/R/site-library --timings GOSemSim_2.33.0.tar.gz StartedAt: 2025-02-14 14:22:59 -0500 (Fri, 14 Feb 2025) EndedAt: 2025-02-14 14:24:44 -0500 (Fri, 14 Feb 2025) EllapsedTime: 104.3 seconds RetCode: 0 Status: OK CheckDir: GOSemSim.Rcheck Warnings: 0