Package: GOSemSim Version: 2.33.0 Command: /home/rapidbuild/bbs-3.21-bioc-rapid/R/bin/R CMD build --keep-empty-dirs --no-resave-data GOSemSim StartedAt: 2025-02-14 12:51:32 -0500 (Fri, 14 Feb 2025) EndedAt: 2025-02-14 12:51:50 -0500 (Fri, 14 Feb 2025) EllapsedTime: 18.0 seconds RetCode: 0 Status: OK PackageFile: GOSemSim_2.33.0.tar.gz PackageFileSize: 594.7 KiB