Package: GEOquery Version: 2.75.0 Command: /home/rapidbuild/bbs-3.21-bioc-rapid/R/bin/R CMD INSTALL GEOquery StartedAt: 2025-02-14 12:16:23 -0500 (Fri, 14 Feb 2025) EndedAt: 2025-02-14 12:16:44 -0500 (Fri, 14 Feb 2025) EllapsedTime: 20.6 seconds RetCode: 0 Status: OK