Package: ExperimentHub Version: 2.15.0 Command: /home/rapidbuild/bbs-3.21-bioc-rapid/R/bin/R CMD INSTALL ExperimentHub StartedAt: 2025-02-21 12:17:16 -0500 (Fri, 21 Feb 2025) EndedAt: 2025-02-21 12:17:27 -0500 (Fri, 21 Feb 2025) EllapsedTime: 11.6 seconds RetCode: 0 Status: OK