Package: EnrichedHeatmap Version: 1.37.0 Command: /home/rapidbuild/bbs-3.21-bioc-rapid/R/bin/R CMD INSTALL EnrichedHeatmap StartedAt: 2025-02-15 12:21:42 -0500 (Sat, 15 Feb 2025) EndedAt: 2025-02-15 12:21:57 -0500 (Sat, 15 Feb 2025) EllapsedTime: 15.0 seconds RetCode: 0 Status: OK