Package: EnrichedHeatmap Version: 1.37.0 Command: /home/rapidbuild/bbs-3.21-bioc-rapid/R/bin/R CMD build --keep-empty-dirs --no-resave-data EnrichedHeatmap StartedAt: 2025-02-15 12:43:29 -0500 (Sat, 15 Feb 2025) EndedAt: 2025-02-15 12:47:04 -0500 (Sat, 15 Feb 2025) EllapsedTime: 215.9 seconds RetCode: 0 Status: OK PackageFile: EnrichedHeatmap_1.37.0.tar.gz PackageFileSize: 11.63 MiB