Package: EBImage Version: 4.49.0 Command: /home/rapidbuild/bbs-3.21-bioc-rapid/R/bin/R CMD INSTALL EBImage StartedAt: 2025-02-10 06:16:00 -0500 (Mon, 10 Feb 2025) EndedAt: 2025-02-10 06:16:15 -0500 (Mon, 10 Feb 2025) EllapsedTime: 15.3 seconds RetCode: 0 Status: OK