Package: DirichletMultinomial Version: 1.49.0 Command: /home/rapidbuild/bbs-3.21-bioc-rapid/R/bin/R CMD build --keep-empty-dirs --no-resave-data DirichletMultinomial StartedAt: 2025-02-10 06:47:51 -0500 (Mon, 10 Feb 2025) EndedAt: 2025-02-10 06:48:25 -0500 (Mon, 10 Feb 2025) EllapsedTime: 33.6 seconds RetCode: 0 Status: OK PackageFile: DirichletMultinomial_1.49.0.tar.gz PackageFileSize: 1.06 MiB