Package: DelayedMatrixStats Version: 1.29.1 Command: /home/rapidbuild/bbs-3.21-bioc-rapid/R/bin/R CMD check --install=check:DelayedMatrixStats.install-out.txt --library=/home/rapidbuild/bbs-3.21-bioc-rapid/R/site-library --timings DelayedMatrixStats_1.29.1.tar.gz StartedAt: 2025-02-13 14:02:02 -0500 (Thu, 13 Feb 2025) EndedAt: 2025-02-13 14:08:40 -0500 (Thu, 13 Feb 2025) EllapsedTime: 397.5 seconds RetCode: 0 Status: OK CheckDir: DelayedMatrixStats.Rcheck Warnings: 0