Package: DNAcopy Version: 1.81.0 Command: /home/rapidbuild/bbs-3.21-bioc-rapid/R/bin/R CMD build --keep-empty-dirs --no-resave-data DNAcopy StartedAt: 2025-02-21 12:41:34 -0500 (Fri, 21 Feb 2025) EndedAt: 2025-02-21 12:41:41 -0500 (Fri, 21 Feb 2025) EllapsedTime: 7.0 seconds RetCode: 0 Status: OK PackageFile: DNAcopy_1.81.0.tar.gz PackageFileSize: 404.8 KiB