Package: CytoML Version: 2.19.1 Command: /home/rapidbuild/bbs-3.21-bioc-rapid/R/bin/R CMD INSTALL CytoML StartedAt: 2025-02-20 12:16:00 -0500 (Thu, 20 Feb 2025) EndedAt: 2025-02-20 12:16:49 -0500 (Thu, 20 Feb 2025) EllapsedTime: 48.8 seconds RetCode: 0 Status: OK