Package: CytoML Version: 2.19.1 Command: /home/rapidbuild/bbs-3.21-bioc-rapid/R/bin/R CMD check --install=check:CytoML.install-out.txt --library=/home/rapidbuild/bbs-3.21-bioc-rapid/R/site-library --timings CytoML_2.19.1.tar.gz StartedAt: 2025-02-20 14:01:34 -0500 (Thu, 20 Feb 2025) EndedAt: 2025-02-20 14:03:43 -0500 (Thu, 20 Feb 2025) EllapsedTime: 128.9 seconds RetCode: 0 Status: WARNINGS CheckDir: CytoML.Rcheck Warnings: 5