Package: CytoML Version: 2.19.1 Command: /home/rapidbuild/bbs-3.21-bioc-rapid/R/bin/R CMD build --keep-empty-dirs --no-resave-data CytoML StartedAt: 2025-02-20 12:38:07 -0500 (Thu, 20 Feb 2025) EndedAt: 2025-02-20 12:39:20 -0500 (Thu, 20 Feb 2025) EllapsedTime: 73.6 seconds RetCode: 0 Status: OK PackageFile: CytoML_2.19.1.tar.gz PackageFileSize: 8.052 MiB