Package: ChemmineR Version: 3.59.0 Command: /home/rapidbuild/bbs-3.21-bioc-rapid/R/bin/R CMD INSTALL ChemmineR StartedAt: 2025-02-10 06:17:08 -0500 (Mon, 10 Feb 2025) EndedAt: 2025-02-10 06:17:28 -0500 (Mon, 10 Feb 2025) EllapsedTime: 19.7 seconds RetCode: 0 Status: OK