Package: ChemmineR Version: 3.59.0 Command: /home/rapidbuild/bbs-3.21-bioc-rapid/R/bin/R CMD build --keep-empty-dirs --no-resave-data ChemmineR StartedAt: 2025-02-10 06:41:51 -0500 (Mon, 10 Feb 2025) EndedAt: 2025-02-10 06:42:52 -0500 (Mon, 10 Feb 2025) EllapsedTime: 60.6 seconds RetCode: 0 Status: OK PackageFile: ChemmineR_3.59.0.tar.gz PackageFileSize: 2.099 MiB