Package: ChemmineOB Version: 1.45.0 Command: /home/rapidbuild/bbs-3.21-bioc-rapid/R/bin/R CMD INSTALL ChemmineOB StartedAt: 2025-02-14 12:08:55 -0500 (Fri, 14 Feb 2025) EndedAt: 2025-02-14 12:10:15 -0500 (Fri, 14 Feb 2025) EllapsedTime: 80.7 seconds RetCode: 0 Status: OK