Package: ChemmineOB Version: 1.45.0 Command: /home/rapidbuild/bbs-3.21-bioc-rapid/R/bin/R CMD check --install=check:ChemmineOB.install-out.txt --library=/home/rapidbuild/bbs-3.21-bioc-rapid/R/site-library --timings ChemmineOB_1.45.0.tar.gz StartedAt: 2025-02-15 13:59:04 -0500 (Sat, 15 Feb 2025) EndedAt: 2025-02-15 14:00:07 -0500 (Sat, 15 Feb 2025) EllapsedTime: 63.3 seconds RetCode: 0 Status: WARNINGS CheckDir: ChemmineOB.Rcheck Warnings: 3