Package: ChemmineOB Version: 1.45.0 Command: /home/rapidbuild/bbs-3.21-bioc-rapid/R/bin/R CMD build --keep-empty-dirs --no-resave-data ChemmineOB StartedAt: 2025-02-15 12:36:36 -0500 (Sat, 15 Feb 2025) EndedAt: 2025-02-15 12:38:07 -0500 (Sat, 15 Feb 2025) EllapsedTime: 91.1 seconds RetCode: 0 Status: OK PackageFile: ChemmineOB_1.45.0.tar.gz PackageFileSize: 1.303 MiB