Package: Category Version: 2.73.0 Command: /home/rapidbuild/bbs-3.21-bioc-rapid/R/bin/R CMD INSTALL Category StartedAt: 2025-02-11 06:24:18 -0500 (Tue, 11 Feb 2025) EndedAt: 2025-02-11 06:24:38 -0500 (Tue, 11 Feb 2025) EllapsedTime: 19.4 seconds RetCode: 0 Status: OK