Package: Biostrings Version: 2.75.3 Command: /home/rapidbuild/bbs-3.21-bioc-rapid/R/bin/R CMD check --install=check:Biostrings.install-out.txt --library=/home/rapidbuild/bbs-3.21-bioc-rapid/R/site-library --timings Biostrings_2.75.3.tar.gz StartedAt: 2025-02-14 13:46:22 -0500 (Fri, 14 Feb 2025) EndedAt: 2025-02-14 13:52:40 -0500 (Fri, 14 Feb 2025) EllapsedTime: 378.0 seconds RetCode: 0 Status: WARNINGS CheckDir: Biostrings.Rcheck Warnings: 1