Package: Biostrings Version: 2.75.3 Command: /home/rapidbuild/bbs-3.21-bioc-rapid/R/bin/R CMD build --keep-empty-dirs --no-resave-data Biostrings StartedAt: 2025-02-15 12:34:35 -0500 (Sat, 15 Feb 2025) EndedAt: 2025-02-15 12:35:17 -0500 (Sat, 15 Feb 2025) EllapsedTime: 42.0 seconds RetCode: 0 Status: OK PackageFile: Biostrings_2.75.3.tar.gz PackageFileSize: 12.22 MiB