Package: BiocVersion Version: 3.21.1 Command: /home/rapidbuild/bbs-3.21-bioc-rapid/R/bin/R CMD build --keep-empty-dirs --no-resave-data BiocVersion StartedAt: 2025-02-21 12:34:12 -0500 (Fri, 21 Feb 2025) EndedAt: 2025-02-21 12:34:13 -0500 (Fri, 21 Feb 2025) EllapsedTime: 1.0 seconds RetCode: 0 Status: OK PackageFile: BiocVersion_3.21.1.tar.gz PackageFileSize: 998 bytes